BEGIN:VCALENDAR
VERSION:2.0
PRODID:-//Kraftzentrum Schamanismus - ECPv6.15.18//NONSGML v1.0//EN
CALSCALE:GREGORIAN
METHOD:PUBLISH
X-WR-CALNAME:Kraftzentrum Schamanismus
X-ORIGINAL-URL:https://nagual-schamanismus.at
X-WR-CALDESC:Veranstaltungen für Kraftzentrum Schamanismus
REFRESH-INTERVAL;VALUE=DURATION:PT1H
X-Robots-Tag:noindex
X-PUBLISHED-TTL:PT1H
BEGIN:VTIMEZONE
TZID:Europe/Berlin
BEGIN:DAYLIGHT
TZOFFSETFROM:+0100
TZOFFSETTO:+0200
TZNAME:CEST
DTSTART:20230326T010000
END:DAYLIGHT
BEGIN:STANDARD
TZOFFSETFROM:+0200
TZOFFSETTO:+0100
TZNAME:CET
DTSTART:20231029T010000
END:STANDARD
BEGIN:DAYLIGHT
TZOFFSETFROM:+0100
TZOFFSETTO:+0200
TZNAME:CEST
DTSTART:20240331T010000
END:DAYLIGHT
BEGIN:STANDARD
TZOFFSETFROM:+0200
TZOFFSETTO:+0100
TZNAME:CET
DTSTART:20241027T010000
END:STANDARD
BEGIN:DAYLIGHT
TZOFFSETFROM:+0100
TZOFFSETTO:+0200
TZNAME:CEST
DTSTART:20250330T010000
END:DAYLIGHT
BEGIN:STANDARD
TZOFFSETFROM:+0200
TZOFFSETTO:+0100
TZNAME:CET
DTSTART:20251026T010000
END:STANDARD
END:VTIMEZONE
BEGIN:VEVENT
DTSTART;TZID=Europe/Berlin:20241204T183000
DTEND;TZID=Europe/Berlin:20241204T220000
DTSTAMP:20260423T123025
CREATED:20240210T090617Z
LAST-MODIFIED:20240912T132448Z
UID:10000242-1733337000-1733349600@nagual-schamanismus.at
SUMMARY:Ekstase Tanz-Abend
DESCRIPTION:+++ AKTION: € 40\,– für Einsteiger* +++ \nIn diesem Workshop öffnen sich Ihnen auf tänzerische Art und Weise neue Erfahrungswelten zwischen dem Diesseits und den verborgenen geistigen Welten. Die Arbeit ist unter anderem stark geprägt von Rhythmus und Bewegung.  \nUnser Ekstase Tanz Abend ist eine Reise zu Vitalität und spiritueller Kraft\, die uns jenseits unserer Begrenzungen erwarten. \n\nLösen Sie mit ekstatischem Tanz die Panzerung Ihres Körpers und\nkommen Sie so zu Ihrem eigenen Selbst.\nGenießen Sie die lustvolle Bewegung und\ndie Freiheit des Selbstausdrucks jenseits festgelegter tänzerischer Bewegungsformen.\nEkstatischer Tanz unterstützt Sie dabei körperlich\, emotional und spirituell freier zu werden.\n\nDauer: 18.30 – 22.00 Uhr\n\nPreise:\nErste Abend: EUR 40\,00\njede weitere Abend: EUR 60\,00\nTanz Paket mit 3 Terminen: EUR 100\,00\n\n>> Flyer downloaden <<\n\nDetails zum Ekstase Tanz\n\nHaben Sie Fragen zum Workshop oder zu unserer schamanischen Ausbildung?\nBenützen Sie unser Kontaktformular.  Gerne sind wir auch für ein persönliches Gespräch für Sie da: +43 (0)699 19223634
URL:https://nagual-schamanismus.at/event/ekstase-tanz-2-2/2024-12-04/
LOCATION:Vitality Base\, Leberstraße 118A\, 1110 Wien\, Österreich
CATEGORIES:2024,Einsteiger:innen,Ekstase Tanz
ATTACH;FMTTYPE=image/webp:https://nagual-schamanismus.at/wp-content/uploads/2022/09/Schamanische-Heilarbeit-Nagual-Niederoesterreich-wien-mobil.webp
ORGANIZER;CN="Kraftzentrum Schamanismus":MAILTO:info@nagual-schamanismus.at
END:VEVENT
BEGIN:VEVENT
DTSTART;TZID=Europe/Berlin:20241205T200000
DTEND;TZID=Europe/Berlin:20241209T230000
DTSTAMP:20260423T123025
CREATED:20231201T224635Z
LAST-MODIFIED:20241226T222715Z
UID:10000220-1733428800-1733785200@nagual-schamanismus.at
SUMMARY:Traumzeit – Workshop in der Jurte
DESCRIPTION:Die Traumwoche – die Kunst des ekstatischen Träumens\nIn den Workshops beschäftigen wir uns mit der Kraft des Träumens.\nEine traumhafte Auszeit\, die Dir ganz neue träumerische Aussichten eröffnet.\nGönne es Dir\, bei uns die Kunst ekstatischen Träumens im Wachzustand kennenzulernen. \nWas passiert in der Traumwoche?\nDu erlebst\, wie sich die Jurte durch ein Ritual in die Traumjurte des Nagual-Schamanismus verwandelt.\nWir verbinden die ekstatischen Träume der Traumfeen\, den Wilden Traum\, die Hohe Magie des Traumes und andere Traumwesen und -kräfte mit den Träumen der schlafenden Erde.\nMit diesem berührenden Ritual heilen wir die Erde und regen gemeinsam mit ihr ein neues Erwachen des globalen Bewusstseins an. \nTermine:\nUnsere Traumzeit Workshops können einzeln oder auch als gesamtes Workshop gebucht werden. Wir emfpehlen die Teilnahme an zumindest 2 Workshops. \nZeiten:\n05.12.: 20.00-23.00 Uhr\n06.12.: 20.00-23.00 Uhr\n07.12.: 18.30-23.00 Uhr\n08.12.: 08.30-11.00 Uhr und 19-24 Uhr\n09.12.: 20.00-23.00 Uhr\n21.12.: 09.00-12.00 Uhr \nPreis:\nGesamtes Workshop: 470\,00\nAbrechnung nach tatsächlichen Stunden á EUR 20\,00. \nÜbernachtung:\nAuf Wunsch bieten wir Ihnen die kostenlose Übernachtung in unserem Schamanischen Kraftzentrum in Haag an.\nBitte geben Sie bei Ihrer Anmeldung bekannt\, ob Sie dieses Angebot nutzen möchten. \nWir freuen uns darauf\, Sie bei uns im magischen Feld des Träumens begrüßen zu dürfen. \nHier gehts zum Anmeldeformular \nHaben Sie noch Fragen zum Workshop oder zu unserer schamanischen Ausbildung? Benützen Sie bitte unser Kontaktformular oder melden Sie sich für ein persönliches Gespräch: +43 (0)699/19223634 \n 
URL:https://nagual-schamanismus.at/event/traumzeit-workshops-in-der-jurte-3-2/2024-12-05/
LOCATION:Kraftzentrum Schamanismus\, Haag 3\, 3232 Bischofstetten\, Niederösterreich
CATEGORIES:2025,Einsteiger:innen,Jurtenworkshop
ATTACH;FMTTYPE=image/jpeg:https://nagual-schamanismus.at/wp-content/uploads/2022/12/IMG_20180121_170430-scaled.jpg
ORGANIZER;CN="Kraftzentrum Schamanismus":MAILTO:info@nagual-schamanismus.at
END:VEVENT
BEGIN:VEVENT
DTSTART;TZID=Europe/Berlin:20241206T200000
DTEND;TZID=Europe/Berlin:20241206T230000
DTSTAMP:20260423T123025
CREATED:20231201T224635Z
LAST-MODIFIED:20241226T222715Z
UID:10000440-1733515200-1733526000@nagual-schamanismus.at
SUMMARY:Traumzeit – Workshop in der Jurte
DESCRIPTION:Die Traumwoche – die Kunst des ekstatischen Träumens\nIn den Workshops beschäftigen wir uns mit der Kraft des Träumens.\nEine traumhafte Auszeit\, die Dir ganz neue träumerische Aussichten eröffnet.\nGönne es Dir\, bei uns die Kunst ekstatischen Träumens im Wachzustand kennenzulernen. \nWas passiert in der Traumwoche?\nDu erlebst\, wie sich die Jurte durch ein Ritual in die Traumjurte des Nagual-Schamanismus verwandelt.\nWir verbinden die ekstatischen Träume der Traumfeen\, den Wilden Traum\, die Hohe Magie des Traumes und andere Traumwesen und -kräfte mit den Träumen der schlafenden Erde.\nMit diesem berührenden Ritual heilen wir die Erde und regen gemeinsam mit ihr ein neues Erwachen des globalen Bewusstseins an. \nTermine:\nUnsere Traumzeit Workshops können einzeln oder auch als gesamtes Workshop gebucht werden. Wir emfpehlen die Teilnahme an zumindest 2 Workshops. \nZeiten:\n05.12.: 20.00-23.00 Uhr\n06.12.: 20.00-23.00 Uhr\n07.12.: 18.30-23.00 Uhr\n08.12.: 08.30-11.00 Uhr und 19-24 Uhr\n09.12.: 20.00-23.00 Uhr\n21.12.: 09.00-12.00 Uhr \nPreis:\nGesamtes Workshop: 470\,00\nAbrechnung nach tatsächlichen Stunden á EUR 20\,00. \nÜbernachtung:\nAuf Wunsch bieten wir Ihnen die kostenlose Übernachtung in unserem Schamanischen Kraftzentrum in Haag an.\nBitte geben Sie bei Ihrer Anmeldung bekannt\, ob Sie dieses Angebot nutzen möchten. \nWir freuen uns darauf\, Sie bei uns im magischen Feld des Träumens begrüßen zu dürfen. \nHier gehts zum Anmeldeformular \nHaben Sie noch Fragen zum Workshop oder zu unserer schamanischen Ausbildung? Benützen Sie bitte unser Kontaktformular oder melden Sie sich für ein persönliches Gespräch: +43 (0)699/19223634 \n 
URL:https://nagual-schamanismus.at/event/traumzeit-workshops-in-der-jurte-3-2/2024-12-06/
LOCATION:Kraftzentrum Schamanismus\, Haag 3\, 3232 Bischofstetten\, Niederösterreich
CATEGORIES:2025,Einsteiger:innen,Jurtenworkshop
ATTACH;FMTTYPE=image/jpeg:https://nagual-schamanismus.at/wp-content/uploads/2022/12/IMG_20180121_170430-scaled.jpg
ORGANIZER;CN="Kraftzentrum Schamanismus":MAILTO:info@nagual-schamanismus.at
END:VEVENT
BEGIN:VEVENT
DTSTART;TZID=Europe/Berlin:20241207T183000
DTEND;TZID=Europe/Berlin:20241207T230000
DTSTAMP:20260423T123025
CREATED:20231201T224635Z
LAST-MODIFIED:20241226T222715Z
UID:10000441-1733596200-1733612400@nagual-schamanismus.at
SUMMARY:Traumzeit – Workshop in der Jurte
DESCRIPTION:Die Traumwoche – die Kunst des ekstatischen Träumens\nIn den Workshops beschäftigen wir uns mit der Kraft des Träumens.\nEine traumhafte Auszeit\, die Dir ganz neue träumerische Aussichten eröffnet.\nGönne es Dir\, bei uns die Kunst ekstatischen Träumens im Wachzustand kennenzulernen. \nWas passiert in der Traumwoche?\nDu erlebst\, wie sich die Jurte durch ein Ritual in die Traumjurte des Nagual-Schamanismus verwandelt.\nWir verbinden die ekstatischen Träume der Traumfeen\, den Wilden Traum\, die Hohe Magie des Traumes und andere Traumwesen und -kräfte mit den Träumen der schlafenden Erde.\nMit diesem berührenden Ritual heilen wir die Erde und regen gemeinsam mit ihr ein neues Erwachen des globalen Bewusstseins an. \nTermine:\nUnsere Traumzeit Workshops können einzeln oder auch als gesamtes Workshop gebucht werden. Wir emfpehlen die Teilnahme an zumindest 2 Workshops. \nZeiten:\n05.12.: 20.00-23.00 Uhr\n06.12.: 20.00-23.00 Uhr\n07.12.: 18.30-23.00 Uhr\n08.12.: 08.30-11.00 Uhr und 19-24 Uhr\n09.12.: 20.00-23.00 Uhr\n21.12.: 09.00-12.00 Uhr \nPreis:\nGesamtes Workshop: 470\,00\nAbrechnung nach tatsächlichen Stunden á EUR 20\,00. \nÜbernachtung:\nAuf Wunsch bieten wir Ihnen die kostenlose Übernachtung in unserem Schamanischen Kraftzentrum in Haag an.\nBitte geben Sie bei Ihrer Anmeldung bekannt\, ob Sie dieses Angebot nutzen möchten. \nWir freuen uns darauf\, Sie bei uns im magischen Feld des Träumens begrüßen zu dürfen. \nHier gehts zum Anmeldeformular \nHaben Sie noch Fragen zum Workshop oder zu unserer schamanischen Ausbildung? Benützen Sie bitte unser Kontaktformular oder melden Sie sich für ein persönliches Gespräch: +43 (0)699/19223634 \n 
URL:https://nagual-schamanismus.at/event/traumzeit-workshops-in-der-jurte-3-2/2024-12-07/
LOCATION:Kraftzentrum Schamanismus\, Haag 3\, 3232 Bischofstetten\, Niederösterreich
CATEGORIES:2025,Einsteiger:innen,Jurtenworkshop
ATTACH;FMTTYPE=image/jpeg:https://nagual-schamanismus.at/wp-content/uploads/2022/12/IMG_20180121_170430-scaled.jpg
ORGANIZER;CN="Kraftzentrum Schamanismus":MAILTO:info@nagual-schamanismus.at
END:VEVENT
BEGIN:VEVENT
DTSTART;TZID=Europe/Berlin:20241208T083000
DTEND;TZID=Europe/Berlin:20241208T110000
DTSTAMP:20260423T123025
CREATED:20231201T224635Z
LAST-MODIFIED:20241226T222715Z
UID:10000442-1733646600-1733655600@nagual-schamanismus.at
SUMMARY:Traumzeit – Workshop in der Jurte
DESCRIPTION:Die Traumwoche – die Kunst des ekstatischen Träumens\nIn den Workshops beschäftigen wir uns mit der Kraft des Träumens.\nEine traumhafte Auszeit\, die Dir ganz neue träumerische Aussichten eröffnet.\nGönne es Dir\, bei uns die Kunst ekstatischen Träumens im Wachzustand kennenzulernen. \nWas passiert in der Traumwoche?\nDu erlebst\, wie sich die Jurte durch ein Ritual in die Traumjurte des Nagual-Schamanismus verwandelt.\nWir verbinden die ekstatischen Träume der Traumfeen\, den Wilden Traum\, die Hohe Magie des Traumes und andere Traumwesen und -kräfte mit den Träumen der schlafenden Erde.\nMit diesem berührenden Ritual heilen wir die Erde und regen gemeinsam mit ihr ein neues Erwachen des globalen Bewusstseins an. \nTermine:\nUnsere Traumzeit Workshops können einzeln oder auch als gesamtes Workshop gebucht werden. Wir emfpehlen die Teilnahme an zumindest 2 Workshops. \nZeiten:\n05.12.: 20.00-23.00 Uhr\n06.12.: 20.00-23.00 Uhr\n07.12.: 18.30-23.00 Uhr\n08.12.: 08.30-11.00 Uhr und 19-24 Uhr\n09.12.: 20.00-23.00 Uhr\n21.12.: 09.00-12.00 Uhr \nPreis:\nGesamtes Workshop: 470\,00\nAbrechnung nach tatsächlichen Stunden á EUR 20\,00. \nÜbernachtung:\nAuf Wunsch bieten wir Ihnen die kostenlose Übernachtung in unserem Schamanischen Kraftzentrum in Haag an.\nBitte geben Sie bei Ihrer Anmeldung bekannt\, ob Sie dieses Angebot nutzen möchten. \nWir freuen uns darauf\, Sie bei uns im magischen Feld des Träumens begrüßen zu dürfen. \nHier gehts zum Anmeldeformular \nHaben Sie noch Fragen zum Workshop oder zu unserer schamanischen Ausbildung? Benützen Sie bitte unser Kontaktformular oder melden Sie sich für ein persönliches Gespräch: +43 (0)699/19223634 \n 
URL:https://nagual-schamanismus.at/event/traumzeit-workshops-in-der-jurte-3-2/2024-12-08/1/
LOCATION:Kraftzentrum Schamanismus\, Haag 3\, 3232 Bischofstetten\, Niederösterreich
CATEGORIES:2025,Einsteiger:innen,Jurtenworkshop
ATTACH;FMTTYPE=image/jpeg:https://nagual-schamanismus.at/wp-content/uploads/2022/12/IMG_20180121_170430-scaled.jpg
ORGANIZER;CN="Kraftzentrum Schamanismus":MAILTO:info@nagual-schamanismus.at
END:VEVENT
BEGIN:VEVENT
DTSTART;TZID=Europe/Berlin:20241208T190000
DTEND;TZID=Europe/Berlin:20241208T235900
DTSTAMP:20260423T123025
CREATED:20231201T224635Z
LAST-MODIFIED:20241226T222715Z
UID:10000443-1733684400-1733702340@nagual-schamanismus.at
SUMMARY:Traumzeit – Workshop in der Jurte
DESCRIPTION:Die Traumwoche – die Kunst des ekstatischen Träumens\nIn den Workshops beschäftigen wir uns mit der Kraft des Träumens.\nEine traumhafte Auszeit\, die Dir ganz neue träumerische Aussichten eröffnet.\nGönne es Dir\, bei uns die Kunst ekstatischen Träumens im Wachzustand kennenzulernen. \nWas passiert in der Traumwoche?\nDu erlebst\, wie sich die Jurte durch ein Ritual in die Traumjurte des Nagual-Schamanismus verwandelt.\nWir verbinden die ekstatischen Träume der Traumfeen\, den Wilden Traum\, die Hohe Magie des Traumes und andere Traumwesen und -kräfte mit den Träumen der schlafenden Erde.\nMit diesem berührenden Ritual heilen wir die Erde und regen gemeinsam mit ihr ein neues Erwachen des globalen Bewusstseins an. \nTermine:\nUnsere Traumzeit Workshops können einzeln oder auch als gesamtes Workshop gebucht werden. Wir emfpehlen die Teilnahme an zumindest 2 Workshops. \nZeiten:\n05.12.: 20.00-23.00 Uhr\n06.12.: 20.00-23.00 Uhr\n07.12.: 18.30-23.00 Uhr\n08.12.: 08.30-11.00 Uhr und 19-24 Uhr\n09.12.: 20.00-23.00 Uhr\n21.12.: 09.00-12.00 Uhr \nPreis:\nGesamtes Workshop: 470\,00\nAbrechnung nach tatsächlichen Stunden á EUR 20\,00. \nÜbernachtung:\nAuf Wunsch bieten wir Ihnen die kostenlose Übernachtung in unserem Schamanischen Kraftzentrum in Haag an.\nBitte geben Sie bei Ihrer Anmeldung bekannt\, ob Sie dieses Angebot nutzen möchten. \nWir freuen uns darauf\, Sie bei uns im magischen Feld des Träumens begrüßen zu dürfen. \nHier gehts zum Anmeldeformular \nHaben Sie noch Fragen zum Workshop oder zu unserer schamanischen Ausbildung? Benützen Sie bitte unser Kontaktformular oder melden Sie sich für ein persönliches Gespräch: +43 (0)699/19223634 \n 
URL:https://nagual-schamanismus.at/event/traumzeit-workshops-in-der-jurte-3-2/2024-12-08/2/
LOCATION:Kraftzentrum Schamanismus\, Haag 3\, 3232 Bischofstetten\, Niederösterreich
CATEGORIES:2025,Einsteiger:innen,Jurtenworkshop
ATTACH;FMTTYPE=image/jpeg:https://nagual-schamanismus.at/wp-content/uploads/2022/12/IMG_20180121_170430-scaled.jpg
ORGANIZER;CN="Kraftzentrum Schamanismus":MAILTO:info@nagual-schamanismus.at
END:VEVENT
BEGIN:VEVENT
DTSTART;TZID=Europe/Berlin:20241209T200000
DTEND;TZID=Europe/Berlin:20241209T230000
DTSTAMP:20260423T123025
CREATED:20231201T224635Z
LAST-MODIFIED:20241226T222715Z
UID:10000444-1733774400-1733785200@nagual-schamanismus.at
SUMMARY:Traumzeit – Workshop in der Jurte
DESCRIPTION:Die Traumwoche – die Kunst des ekstatischen Träumens\nIn den Workshops beschäftigen wir uns mit der Kraft des Träumens.\nEine traumhafte Auszeit\, die Dir ganz neue träumerische Aussichten eröffnet.\nGönne es Dir\, bei uns die Kunst ekstatischen Träumens im Wachzustand kennenzulernen. \nWas passiert in der Traumwoche?\nDu erlebst\, wie sich die Jurte durch ein Ritual in die Traumjurte des Nagual-Schamanismus verwandelt.\nWir verbinden die ekstatischen Träume der Traumfeen\, den Wilden Traum\, die Hohe Magie des Traumes und andere Traumwesen und -kräfte mit den Träumen der schlafenden Erde.\nMit diesem berührenden Ritual heilen wir die Erde und regen gemeinsam mit ihr ein neues Erwachen des globalen Bewusstseins an. \nTermine:\nUnsere Traumzeit Workshops können einzeln oder auch als gesamtes Workshop gebucht werden. Wir emfpehlen die Teilnahme an zumindest 2 Workshops. \nZeiten:\n05.12.: 20.00-23.00 Uhr\n06.12.: 20.00-23.00 Uhr\n07.12.: 18.30-23.00 Uhr\n08.12.: 08.30-11.00 Uhr und 19-24 Uhr\n09.12.: 20.00-23.00 Uhr\n21.12.: 09.00-12.00 Uhr \nPreis:\nGesamtes Workshop: 470\,00\nAbrechnung nach tatsächlichen Stunden á EUR 20\,00. \nÜbernachtung:\nAuf Wunsch bieten wir Ihnen die kostenlose Übernachtung in unserem Schamanischen Kraftzentrum in Haag an.\nBitte geben Sie bei Ihrer Anmeldung bekannt\, ob Sie dieses Angebot nutzen möchten. \nWir freuen uns darauf\, Sie bei uns im magischen Feld des Träumens begrüßen zu dürfen. \nHier gehts zum Anmeldeformular \nHaben Sie noch Fragen zum Workshop oder zu unserer schamanischen Ausbildung? Benützen Sie bitte unser Kontaktformular oder melden Sie sich für ein persönliches Gespräch: +43 (0)699/19223634 \n 
URL:https://nagual-schamanismus.at/event/traumzeit-workshops-in-der-jurte-3-2/2024-12-09/
LOCATION:Kraftzentrum Schamanismus\, Haag 3\, 3232 Bischofstetten\, Niederösterreich
CATEGORIES:2025,Einsteiger:innen,Jurtenworkshop
ATTACH;FMTTYPE=image/jpeg:https://nagual-schamanismus.at/wp-content/uploads/2022/12/IMG_20180121_170430-scaled.jpg
ORGANIZER;CN="Kraftzentrum Schamanismus":MAILTO:info@nagual-schamanismus.at
END:VEVENT
BEGIN:VEVENT
DTSTART;TZID=Europe/Berlin:20241219T200000
DTEND;TZID=Europe/Berlin:20241219T230000
DTSTAMP:20260423T123025
CREATED:20241206T122343Z
LAST-MODIFIED:20251127T084901Z
UID:10000445-1734638400-1734649200@nagual-schamanismus.at
SUMMARY:Traumzeit – Workshop in der Jurte
DESCRIPTION:Die Traumwoche – die Kunst des ekstatischen Träumens\nIn den Workshops beschäftigen wir uns mit der Kraft des Träumens.\nEine traumhafte Auszeit\, die Dir ganz neue träumerische Aussichten eröffnet.\nGönne es Dir\, bei uns die Kunst ekstatischen Träumens im Wachzustand kennenzulernen. \nWas passiert in der Traumwoche?\nDu erlebst\, wie sich die Jurte durch ein Ritual in die Traumjurte des Nagual-Schamanismus verwandelt.\nWir verbinden die ekstatischen Träume der Traumfeen\, den Wilden Traum\, die Hohe Magie des Traumes und andere Traumwesen und -kräfte mit den Träumen der schlafenden Erde.\nMit diesem berührenden Ritual heilen wir die Erde und regen gemeinsam mit ihr ein neues Erwachen des globalen Bewusstseins an. \nTermine:\nUnsere Traumzeit Workshops können einzeln oder auch als gesamtes Workshop gebucht werden. Wir emfpehlen die Teilnahme an zumindest 2 Workshops. \nZeiten:\n04.12.: 20.30-23.00 Uhr\n05.12.: 19.00-23.00 Uhr\n06.12.: 11-23.00 Uhr\n07.12.: 09.00-12.00 Uhr und 17.00-23 Uhr\n08.12.: 09.30-12.30 Uhr und 16.00-18.30 Uhr \nPreis:\nGesamtes Workshop: 580\,00\nAbrechnung nach tatsächlichen Stunden á EUR 20\,00. \nÜbernachtung:\nAuf Wunsch bieten wir Ihnen die kostenlose Übernachtung in unserem Schamanischen Kraftzentrum in Haag an.\nBitte geben Sie bei Ihrer Anmeldung bekannt\, ob Sie dieses Angebot nutzen möchten. \nWir freuen uns darauf\, Sie bei uns im magischen Feld des Träumens begrüßen zu dürfen. \nHier gehts zum Anmeldeformular \nHaben Sie noch Fragen zum Workshop oder zu unserer schamanischen Ausbildung? Benützen Sie bitte unser Kontaktformular oder melden Sie sich für ein persönliches Gespräch: +43 (0)699/19223634
URL:https://nagual-schamanismus.at/event/traumzeit-workshops-in-der-jurte-3-2-2/
LOCATION:Kraftzentrum Schamanismus\, Haag 3\, 3232 Bischofstetten\, Niederösterreich
CATEGORIES:2025,Einsteiger:innen,Jurtenworkshop
ATTACH;FMTTYPE=image/jpeg:https://nagual-schamanismus.at/wp-content/uploads/2022/12/IMG_20180121_170430-scaled.jpg
ORGANIZER;CN="Kraftzentrum Schamanismus":MAILTO:info@nagual-schamanismus.at
END:VEVENT
BEGIN:VEVENT
DTSTART;TZID=Europe/Berlin:20241221T090000
DTEND;TZID=Europe/Berlin:20241221T120000
DTSTAMP:20260423T123025
CREATED:20231201T224635Z
LAST-MODIFIED:20241226T222715Z
UID:10000446-1734771600-1734782400@nagual-schamanismus.at
SUMMARY:Traumzeit – Workshop in der Jurte
DESCRIPTION:Die Traumwoche – die Kunst des ekstatischen Träumens\nIn den Workshops beschäftigen wir uns mit der Kraft des Träumens.\nEine traumhafte Auszeit\, die Dir ganz neue träumerische Aussichten eröffnet.\nGönne es Dir\, bei uns die Kunst ekstatischen Träumens im Wachzustand kennenzulernen. \nWas passiert in der Traumwoche?\nDu erlebst\, wie sich die Jurte durch ein Ritual in die Traumjurte des Nagual-Schamanismus verwandelt.\nWir verbinden die ekstatischen Träume der Traumfeen\, den Wilden Traum\, die Hohe Magie des Traumes und andere Traumwesen und -kräfte mit den Träumen der schlafenden Erde.\nMit diesem berührenden Ritual heilen wir die Erde und regen gemeinsam mit ihr ein neues Erwachen des globalen Bewusstseins an. \nTermine:\nUnsere Traumzeit Workshops können einzeln oder auch als gesamtes Workshop gebucht werden. Wir emfpehlen die Teilnahme an zumindest 2 Workshops. \nZeiten:\n05.12.: 20.00-23.00 Uhr\n06.12.: 20.00-23.00 Uhr\n07.12.: 18.30-23.00 Uhr\n08.12.: 08.30-11.00 Uhr und 19-24 Uhr\n09.12.: 20.00-23.00 Uhr\n21.12.: 09.00-12.00 Uhr \nPreis:\nGesamtes Workshop: 470\,00\nAbrechnung nach tatsächlichen Stunden á EUR 20\,00. \nÜbernachtung:\nAuf Wunsch bieten wir Ihnen die kostenlose Übernachtung in unserem Schamanischen Kraftzentrum in Haag an.\nBitte geben Sie bei Ihrer Anmeldung bekannt\, ob Sie dieses Angebot nutzen möchten. \nWir freuen uns darauf\, Sie bei uns im magischen Feld des Träumens begrüßen zu dürfen. \nHier gehts zum Anmeldeformular \nHaben Sie noch Fragen zum Workshop oder zu unserer schamanischen Ausbildung? Benützen Sie bitte unser Kontaktformular oder melden Sie sich für ein persönliches Gespräch: +43 (0)699/19223634 \n 
URL:https://nagual-schamanismus.at/event/traumzeit-workshops-in-der-jurte-3-2/2024-12-21/
LOCATION:Kraftzentrum Schamanismus\, Haag 3\, 3232 Bischofstetten\, Niederösterreich
CATEGORIES:2025,Einsteiger:innen,Jurtenworkshop
ATTACH;FMTTYPE=image/jpeg:https://nagual-schamanismus.at/wp-content/uploads/2022/12/IMG_20180121_170430-scaled.jpg
ORGANIZER;CN="Kraftzentrum Schamanismus":MAILTO:info@nagual-schamanismus.at
END:VEVENT
END:VCALENDAR