BEGIN:VCALENDAR
VERSION:2.0
PRODID:-//Kraftzentrum Schamanismus - ECPv6.15.18//NONSGML v1.0//EN
CALSCALE:GREGORIAN
METHOD:PUBLISH
X-ORIGINAL-URL:https://nagual-schamanismus.at
X-WR-CALDESC:Veranstaltungen für Kraftzentrum Schamanismus
REFRESH-INTERVAL;VALUE=DURATION:PT1H
X-Robots-Tag:noindex
X-PUBLISHED-TTL:PT1H
BEGIN:VTIMEZONE
TZID:Europe/Berlin
BEGIN:DAYLIGHT
TZOFFSETFROM:+0100
TZOFFSETTO:+0200
TZNAME:CEST
DTSTART:20230326T010000
END:DAYLIGHT
BEGIN:STANDARD
TZOFFSETFROM:+0200
TZOFFSETTO:+0100
TZNAME:CET
DTSTART:20231029T010000
END:STANDARD
BEGIN:DAYLIGHT
TZOFFSETFROM:+0100
TZOFFSETTO:+0200
TZNAME:CEST
DTSTART:20240331T010000
END:DAYLIGHT
BEGIN:STANDARD
TZOFFSETFROM:+0200
TZOFFSETTO:+0100
TZNAME:CET
DTSTART:20241027T010000
END:STANDARD
BEGIN:DAYLIGHT
TZOFFSETFROM:+0100
TZOFFSETTO:+0200
TZNAME:CEST
DTSTART:20250330T010000
END:DAYLIGHT
BEGIN:STANDARD
TZOFFSETFROM:+0200
TZOFFSETTO:+0100
TZNAME:CET
DTSTART:20251026T010000
END:STANDARD
END:VTIMEZONE
BEGIN:VEVENT
DTSTART;TZID=Europe/Berlin:20240926T170000
DTEND;TZID=Europe/Berlin:20240930T200000
DTSTAMP:20260423T164934
CREATED:20240209T114113Z
LAST-MODIFIED:20240209T114113Z
UID:10000283-1727370000-1727726400@nagual-schamanismus.at
SUMMARY:Herbstworkshop auf der magischen Alm
DESCRIPTION:Bestimmte Orte im Hochgebirge sind nach wie vor Quellen alter Magie. \nDieser Workshop findet auf einem Kraftplatz statt\, der uns auf unsere Fähigkeit hin zu innerer Heilung und magisch spirituellem Wissen ausrichtet.\nDie beständige Präsenz des Feenplatzes wirkt positiv auf die eigene spirituelle und emotionale Selbsterkenntnis. \nSie begegnen der heilsamen Kraft und dem Zauber der Fee.\nSie erleben die magische Kommunikation mit den Bergern.\nSie finden ihren persönlichen Kraftplatz in der Natur.\nSie kehren in die ursprüngliche Einheit mit der Natur zurück. \n>> Details zum Workshop<<\nWo und wann findet der Workshop statt\nWir arbeiten auf magischen Alm\, wo wir gemeinsam den Beginn des Sommers erleben.\nUntergebracht sind wir in gut ausgestatteten Almhütten\, wo wir uns selbst versorgen.\nDabei befinden wir uns in einem speziellen Gebiet\, das Udo seit Jahren intensiv schamanisch betreut. \n \nAnmeldefrist: 10 Tage vor Beginn\nEine Teilnahme ist auch tageweise möglich. \nBeginn: 26.09. ca. 17.00 Uhr (Anreise bis 13.00 Uhr)\nEnde: 29.09. ca. 19.00 Uhr (Abreise im Anschluß bzw. am 30.09. vormittags) \nWorkshopzeiten:\n26.09. ca. 5 Stunden\n27.\, 28. und 29.09. je ca. 7 bis 10 Stunden \nPreise:\nWorkshoptag mit 5 Stunden: EUR 100\,00\nWorkshoptag mit 7 Stunden: EUR 140\,00\nWorkshoptag mit 10 Stunden: EUR 200\,00 \nGesamtes Workshop: EUR 690\,00\nAbrechnung nach tatsächlichen Stunden à EUR 20\,00 \nÜbernachtung mit Vollpension: € 65\,- pro Nacht und Person \nOrt: Alm in Kärnten \nDetails zu Anreise und Aufenthalt erhalten Sie nach erfolgreiche Anmeldung. \nHier gehts zum Anmeldeformular \nHaben Sie noch Fragen zum Workshop oder zu unserer schamanischen Ausbildung? Benützen Sie bitte unser Kontaktformular oder melden Sie sich für ein persönliches Gespräch: +43 (0)699/19223634
URL:https://nagual-schamanismus.at/event/herbstworkshop-auf-der-magischen-alm/
LOCATION:Kraftzentrum Schamanismus\, Haag 3\, 3232 Bischofstetten\, Niederösterreich
CATEGORIES:2024,Einsteiger:innen,Mehrere Tage,Workshop auf der magischen Alm
ATTACH;FMTTYPE=image/jpeg:https://nagual-schamanismus.at/wp-content/uploads/2022/08/Magische-Feenalm-Workshop-Schamanismus-mobil.jpg
ORGANIZER;CN="Kraftzentrum Schamanismus":MAILTO:info@nagual-schamanismus.at
END:VEVENT
END:VCALENDAR