BEGIN:VCALENDAR
VERSION:2.0
PRODID:-//Kraftzentrum Schamanismus - ECPv6.15.18//NONSGML v1.0//EN
CALSCALE:GREGORIAN
METHOD:PUBLISH
X-WR-CALNAME:Kraftzentrum Schamanismus
X-ORIGINAL-URL:https://nagual-schamanismus.at
X-WR-CALDESC:Veranstaltungen für Kraftzentrum Schamanismus
REFRESH-INTERVAL;VALUE=DURATION:PT1H
X-Robots-Tag:noindex
X-PUBLISHED-TTL:PT1H
BEGIN:VTIMEZONE
TZID:Europe/Berlin
BEGIN:DAYLIGHT
TZOFFSETFROM:+0100
TZOFFSETTO:+0200
TZNAME:CEST
DTSTART:20230326T010000
END:DAYLIGHT
BEGIN:STANDARD
TZOFFSETFROM:+0200
TZOFFSETTO:+0100
TZNAME:CET
DTSTART:20231029T010000
END:STANDARD
BEGIN:DAYLIGHT
TZOFFSETFROM:+0100
TZOFFSETTO:+0200
TZNAME:CEST
DTSTART:20240331T010000
END:DAYLIGHT
BEGIN:STANDARD
TZOFFSETFROM:+0200
TZOFFSETTO:+0100
TZNAME:CET
DTSTART:20241027T010000
END:STANDARD
BEGIN:DAYLIGHT
TZOFFSETFROM:+0100
TZOFFSETTO:+0200
TZNAME:CEST
DTSTART:20250330T010000
END:DAYLIGHT
BEGIN:STANDARD
TZOFFSETFROM:+0200
TZOFFSETTO:+0100
TZNAME:CET
DTSTART:20251026T010000
END:STANDARD
END:VTIMEZONE
BEGIN:VEVENT
DTSTART;TZID=Europe/Berlin:20240705T160000
DTEND;TZID=Europe/Berlin:20240706T180000
DTSTAMP:20260423T194057
CREATED:20240103T223713Z
LAST-MODIFIED:20240610T224703Z
UID:10000268-1720195200-1720288800@nagual-schamanismus.at
SUMMARY:Workshop der Nagual-SchamanInnen
DESCRIPTION:Die Welt ist voll Magie und die findet sich gleich vor der Haustür.\nErleben Sie schamanische Kraft in Form von Ritualen und Teachings.\nLernen Sie die Nagual-Schaman:Innen bei ihrer Arbeit kennen.\nProfitieren Sie vom Know How und der freudigen Energie\, die entsteht\, wenn Schaman:innen sich treffen.\nWir freuen uns auf die gemeinsame Zeit mit Euch.\n\n\n\n\n		\n		\n			\n				\n			\n			\n				\n			\n			\n				\n			\n		\n\n\n\nTermine:\nFreitag\, 05.07.: 16 – 21 Uhr\nSamstag\, 06.07.: 10 – 18 Uhr\n\nPreise:\nFreitag\, 05.07. EUR  75\,-\nSamstag\, 06.07. EUR  120\,–\n\nHaben Sie noch Fragen zum Workshop oder zu unserer schamanischen Ausbildung? Benützen Sie bitte unser Kontaktformular oder melden Sie sich für ein persönliches Gespräch: +43 (0)699/19223634
URL:https://nagual-schamanismus.at/event/magischer-workshop-der-nagual-schamaninnen/
LOCATION:Kraftzentrum Schamanismus\, Haag 3\, 3232 Bischofstetten\, Niederösterreich
CATEGORIES:2024,Einsteiger:innen,Jurtenworkshop
ATTACH;FMTTYPE=image/jpeg:https://nagual-schamanismus.at/wp-content/uploads/2020/04/Nagual-Workshops-Jurte.jpg
ORGANIZER;CN="Kraftzentrum Schamanismus":MAILTO:info@nagual-schamanismus.at
END:VEVENT
END:VCALENDAR