BEGIN:VCALENDAR
VERSION:2.0
PRODID:-//Kraftzentrum Schamanismus - ECPv6.15.18//NONSGML v1.0//EN
CALSCALE:GREGORIAN
METHOD:PUBLISH
X-WR-CALNAME:Kraftzentrum Schamanismus
X-ORIGINAL-URL:https://nagual-schamanismus.at
X-WR-CALDESC:Veranstaltungen für Kraftzentrum Schamanismus
REFRESH-INTERVAL;VALUE=DURATION:PT1H
X-Robots-Tag:noindex
X-PUBLISHED-TTL:PT1H
BEGIN:VTIMEZONE
TZID:Europe/Berlin
BEGIN:DAYLIGHT
TZOFFSETFROM:+0100
TZOFFSETTO:+0200
TZNAME:CEST
DTSTART:20230326T010000
END:DAYLIGHT
BEGIN:STANDARD
TZOFFSETFROM:+0200
TZOFFSETTO:+0100
TZNAME:CET
DTSTART:20231029T010000
END:STANDARD
BEGIN:DAYLIGHT
TZOFFSETFROM:+0100
TZOFFSETTO:+0200
TZNAME:CEST
DTSTART:20240331T010000
END:DAYLIGHT
BEGIN:STANDARD
TZOFFSETFROM:+0200
TZOFFSETTO:+0100
TZNAME:CET
DTSTART:20241027T010000
END:STANDARD
BEGIN:DAYLIGHT
TZOFFSETFROM:+0100
TZOFFSETTO:+0200
TZNAME:CEST
DTSTART:20250330T010000
END:DAYLIGHT
BEGIN:STANDARD
TZOFFSETFROM:+0200
TZOFFSETTO:+0100
TZNAME:CET
DTSTART:20251026T010000
END:STANDARD
END:VTIMEZONE
BEGIN:VEVENT
DTSTART;TZID=Europe/Berlin:20240309T190000
DTEND;TZID=Europe/Berlin:20240310T020000
DTSTAMP:20260424T021253
CREATED:20230319T071205Z
LAST-MODIFIED:20240305T012658Z
UID:10000009-1710010800-1710036000@nagual-schamanismus.at
SUMMARY:Schwitzhütte - Kraft der Vision
DESCRIPTION:Feiern Sie mit uns in ritueller Form unsere Verbindung mit Spirit und Ekstase. \nDie Schwitzhütte stellt für uns Nagual-SchamanInnen ein ganz besonderes Fest dar. Als Power- und Visionsschwitzhütte ist sie so angelegt\, dass sie uns mit dem lebendigen Feld und den archaischen Kräften unseres Mythos in Verbindung bringt. Die Kraft des Mythos führt uns und unsere magische Wirksamkeit als Schaman:innen auf besonders innige Weise mit dem ursprünglichen Wesen des Kosmos zusammen. \nTermin: 09./10.03. \nZeit: 12:00 bis 08.00 Uhr \nPreis: EUR 250\,00 \nTeilnahme:\nDa es sich dabei um ein sehr intimes Ritual handelt\, ist die Teilnahme an unsere vorherige Zustimmung geknüpft.\nBitte besuchen Sie daher im Vorfeld eine andere Veranstaltung von uns für ein Kennenlernen. Für die Teilnahme an unserer Schwitzhütte sind keinerlei magischen/persönlichen Voraussetzungen erforderlich. \nMehr Informationen \nBei Interesse nutzen Sie bitte unser Kontaktformular.
URL:https://nagual-schamanismus.at/event/schamanische-schwitzhuette/2024-03-09/
LOCATION:Kraftzentrum Schamanismus\, Haag 3\, 3232 Bischofstetten\, Niederösterreich
CATEGORIES:Schwitzhütte
ATTACH;FMTTYPE=image/jpeg:https://nagual-schamanismus.at/wp-content/uploads/2019/11/IMG_7836.jpg
ORGANIZER;CN="Kraftzentrum Schamanismus":MAILTO:info@nagual-schamanismus.at
END:VEVENT
BEGIN:VEVENT
DTSTART;TZID=Europe/Berlin:20240310T030000
DTEND;TZID=Europe/Berlin:20240311T053000
DTSTAMP:20260424T021253
CREATED:20240209T115802Z
LAST-MODIFIED:20240601T223412Z
UID:10000365-1710039600-1710135000@nagual-schamanismus.at
SUMMARY:Nagual Workshop in der Jurte
DESCRIPTION:Mitten Hinein in die Faszination schamanischer Magie. \nMagie\, Emotion und Spirit sind die drei Säulen\, die unser inneres und äußeres Lebenshaus tragen. \nUnser emotionales Sein lässt uns Verbindung und Abgrenzung zu anderen finden und eröffnet uns die Chance auf persönliches Glück. \nWir sind Wesen der Kraft und Wesen des Spirits.\nErst unsere klare Verankerung in den Bereichen von Magie und Spiritualität lässt uns zu spirituell Erwachsenen heranreifen. \nAus dem Nagual\, dem Unfassbaren\, fließt der Strom der Magie.\nWir verbinden seine Kraft mit den Anliegen\, die unserem Herzen entspringen. \nWir folgen dabei einer alten schamanischen Weisheit:  Der Weg der Schönheit ist zugleich der Weg der Selbstheilung. \nDieses Worshop in der Jurte begleitet uns ein Stück auf dem faszinierenden Weg der Erinnerung an unsere ursprüngliche magische Ganzheit. \nWEITERE INFOS \nOrt: Schamanisches Kraftzentrum Haag \nPreise: € 150\,- \nHier gehts zum Anmeldeformular \nHaben Sie noch Fragen zum Workshop oder zu unserer schamanischen Ausbildung? Benützen Sie bitte unser Kontaktformular oder melden Sie sich für ein persönliches Gespräch: +43 (0)699/19223634
URL:https://nagual-schamanismus.at/event/nagual-workshop-in-der-jurte/2024-03-10/
LOCATION:Kraftzentrum Schamanismus\, Haag 3\, 3232 Bischofstetten\, Niederösterreich
CATEGORIES:2024,Einsteiger:innen,Jurtenworkshop
ATTACH;FMTTYPE=image/jpeg:https://nagual-schamanismus.at/wp-content/uploads/2022/06/Schamanischer-Jurten-Workshop-mobil-square.jpeg
ORGANIZER;CN="Kraftzentrum Schamanismus":MAILTO:info@nagual-schamanismus.at
END:VEVENT
BEGIN:VEVENT
DTSTART;TZID=Europe/Berlin:20240313T183000
DTEND;TZID=Europe/Berlin:20240313T220000
DTSTAMP:20260424T021253
CREATED:20240210T090617Z
LAST-MODIFIED:20240912T132448Z
UID:10000236-1710354600-1710367200@nagual-schamanismus.at
SUMMARY:Ekstase Tanz-Abend
DESCRIPTION:+++ AKTION: € 40\,– für Einsteiger* +++ \nIn diesem Workshop öffnen sich Ihnen auf tänzerische Art und Weise neue Erfahrungswelten zwischen dem Diesseits und den verborgenen geistigen Welten. Die Arbeit ist unter anderem stark geprägt von Rhythmus und Bewegung.  \nUnser Ekstase Tanz Abend ist eine Reise zu Vitalität und spiritueller Kraft\, die uns jenseits unserer Begrenzungen erwarten. \n\nLösen Sie mit ekstatischem Tanz die Panzerung Ihres Körpers und\nkommen Sie so zu Ihrem eigenen Selbst.\nGenießen Sie die lustvolle Bewegung und\ndie Freiheit des Selbstausdrucks jenseits festgelegter tänzerischer Bewegungsformen.\nEkstatischer Tanz unterstützt Sie dabei körperlich\, emotional und spirituell freier zu werden.\n\nDauer: 18.30 – 22.00 Uhr\n\nPreise:\nErste Abend: EUR 40\,00\njede weitere Abend: EUR 60\,00\nTanz Paket mit 3 Terminen: EUR 100\,00\n\n>> Flyer downloaden <<\n\nDetails zum Ekstase Tanz\n\nHaben Sie Fragen zum Workshop oder zu unserer schamanischen Ausbildung?\nBenützen Sie unser Kontaktformular.  Gerne sind wir auch für ein persönliches Gespräch für Sie da: +43 (0)699 19223634
URL:https://nagual-schamanismus.at/event/ekstase-tanz-2-2/2024-03-13/
LOCATION:Vitality Base\, Leberstraße 118A\, 1110 Wien\, Österreich
CATEGORIES:2024,Einsteiger:innen,Ekstase Tanz
ATTACH;FMTTYPE=image/webp:https://nagual-schamanismus.at/wp-content/uploads/2022/09/Schamanische-Heilarbeit-Nagual-Niederoesterreich-wien-mobil.webp
ORGANIZER;CN="Kraftzentrum Schamanismus":MAILTO:info@nagual-schamanismus.at
END:VEVENT
BEGIN:VEVENT
DTSTART;TZID=Europe/Berlin:20240316T123000
DTEND;TZID=Europe/Berlin:20240316T163000
DTSTAMP:20260424T021253
CREATED:20240103T213437Z
LAST-MODIFIED:20240313T142005Z
UID:10000259-1710592200-1710606600@nagual-schamanismus.at
SUMMARY:Info-Veranstaltung zur "Schamanischen Ausbildung"
DESCRIPTION:Schamane zu werden ist Berufung und Glück. \nDieser Tag ist eine Informationsveranstaltung für Interessierte an unserer Ausbildung und eine gute Gelegenheit \n\nFragen zu stellen\nfeinen schamanische Demonstrationen beizuwohnen und\nuns persönlich kennenzulernen.\n\nSie finden bei uns einen fundierten europäischen Zugang zum Schamanismus\, der weit über technische Unterweisung oder das Erlernen von schamanischem Praktizieren hinausgeht.\nUnsere schamanische Ausbildung führt Sie unbeirrt zur authentischen schamanischen Einweihung – einer tiefgreifenden Transformation ihrer ganzen Person und ihres (magischen) Ausdrucks im Leben. \nDen zu Schaman:innen Berufenen gemeinsam ist jedenfalls \n\ndas Interesse für das Ungewöhnliche um uns herum\,\nfür die tiefe Begegnung mit der Natur\, und oft aber nicht immer schon so deutlich spürbar\,\nein hingezogen Sein zu Magie und\naußergewöhnlichen Zuständen des Bewusstseins.\n\nDie Art der Berufung kann sehr verschieden erlebt werden\, kann verschiedene Formen und Gestalten annehmen. \nSchamanismus in seiner vollen Pracht zu erleben bedeutet: Veränderung der Welt\, eine Umformung des Bekannten nach neuem Rhythmus und neuer magischer Melodie\, die eine davor nicht in ihrer ganzen Kraft und Schönheit wahrnehmbare Balance im Universum erzeugt. Diese Erfahrung der Stimmigkeit\, der Balance\, des Eingebettet Seins in Natur\, Spirit und Magie lässt das Herz des Schaman:innen höher schlagen. \nWollen Sie an diesem Weg teilhaben und sich über die Möglichkeiten informieren\, sind Sie bei uns an diesem Tag genau richtig. \nWir freuen uns auf Sie! \nHinweis:\nDiese Veranstaltung ist kein Auswahl-Workshop und keine Prüfung\, ob Sie für den Weg der Schaman:in geeignet sind. Gerne schauen wir uns aber gemeinsam mit Ihnen an\, welche Voraussetzung Sie bereits mitbringen würden und was von Ihnen im Lauf unserer Ausbildungs noch zu entwickeln wäre. \nUnser Feedback zu Ihnen beinhaltet auf Wunsch auch unsere professionelle Meinung\, ob der Weg des Schamanen aus unserer Sicht für Sie eher in Frage kommt oder ob Sie vielleicht einer anderen\,  für Sie noch sinnvolleren Berufungslinie im Universum folgen sollen. \nDer Besuch dieser Veranstaltung ist kostenlos aber keinesfalls umsonst. \nFür ein kleines Buffet zwischendurch wird von uns gesorgt. \nLiegt ihr Interesse derzeit mehr im Erleben von schamanischer Kraft und weniger in Ihrer Ausbildung zum Schamanen\, laden wir Sie zu unseren Demo-Tagen am 27. April oder 5. Oktober 2024 ein. \n     
URL:https://nagual-schamanismus.at/event/infotag-schamanische-ausbildung/
LOCATION:Kraftzentrum Schamanismus\, Haag 3\, 3232 Bischofstetten\, Niederösterreich
CATEGORIES:2024,Einsteiger:innen,Informationstag "Schamanische Ausbildung"
ATTACH;FMTTYPE=image/jpeg:https://nagual-schamanismus.at/wp-content/uploads/2022/02/DSC04854-1-scaled.jpg
ORGANIZER;CN="Kraftzentrum Schamanismus":MAILTO:info@nagual-schamanismus.at
END:VEVENT
BEGIN:VEVENT
DTSTART;TZID=Europe/Berlin:20240316T190000
DTEND;TZID=Europe/Berlin:20240317T020000
DTSTAMP:20260424T021253
CREATED:20230319T071205Z
LAST-MODIFIED:20240305T012658Z
UID:10000335-1710615600-1710640800@nagual-schamanismus.at
SUMMARY:Schwitzhütte - Kraft der Vision
DESCRIPTION:Feiern Sie mit uns in ritueller Form unsere Verbindung mit Spirit und Ekstase. \nDie Schwitzhütte stellt für uns Nagual-SchamanInnen ein ganz besonderes Fest dar. Als Power- und Visionsschwitzhütte ist sie so angelegt\, dass sie uns mit dem lebendigen Feld und den archaischen Kräften unseres Mythos in Verbindung bringt. Die Kraft des Mythos führt uns und unsere magische Wirksamkeit als Schaman:innen auf besonders innige Weise mit dem ursprünglichen Wesen des Kosmos zusammen. \nTermin: 09./10.03. \nZeit: 12:00 bis 08.00 Uhr \nPreis: EUR 250\,00 \nTeilnahme:\nDa es sich dabei um ein sehr intimes Ritual handelt\, ist die Teilnahme an unsere vorherige Zustimmung geknüpft.\nBitte besuchen Sie daher im Vorfeld eine andere Veranstaltung von uns für ein Kennenlernen. Für die Teilnahme an unserer Schwitzhütte sind keinerlei magischen/persönlichen Voraussetzungen erforderlich. \nMehr Informationen \nBei Interesse nutzen Sie bitte unser Kontaktformular.
URL:https://nagual-schamanismus.at/event/schamanische-schwitzhuette/2024-03-16/
LOCATION:Kraftzentrum Schamanismus\, Haag 3\, 3232 Bischofstetten\, Niederösterreich
CATEGORIES:Schwitzhütte
ATTACH;FMTTYPE=image/jpeg:https://nagual-schamanismus.at/wp-content/uploads/2019/11/IMG_7836.jpg
ORGANIZER;CN="Kraftzentrum Schamanismus":MAILTO:info@nagual-schamanismus.at
END:VEVENT
BEGIN:VEVENT
DTSTART;TZID=Europe/Berlin:20240320T180000
DTEND;TZID=Europe/Berlin:20240320T220000
DTSTAMP:20260424T021253
CREATED:20231012T132056Z
LAST-MODIFIED:20241023T084921Z
UID:10000172-1710957600-1710972000@nagual-schamanismus.at
SUMMARY:Ekstase Tanz Abend
DESCRIPTION:+++ AKTION: € 40\,– für Einsteiger* +++ \nIn diesem Workshop öffnen sich Ihnen auf tänzerische Art und Weise neue Erfahrungswelten zwischen dem Diesseits und den verborgenen geistigen Welten. Die Arbeit ist unter anderem stark geprägt von Rhythmus und Bewegung.  \nUnser Ekstase Tanz Abend ist eine Reise zu Vitalität und spiritueller Kraft\, die uns jenseits unserer Begrenzungen erwarten. \n\nLösen Sie mit ekstatischem Tanz die Panzerung Ihres Körpers und\nkommen Sie so zu Ihrem eigenen Selbst.\nGenießen Sie die lustvolle Bewegung und\ndie Freiheit des Selbstausdrucks jenseits festgelegter tänzerischer Bewegungsformen.\nEkstatischer Tanz unterstützt Sie dabei körperlich\, emotional und spirituell freier zu werden.\n\nPreise:\nErste Abend: EUR 40\,00\njede weitere Abend: EUR 60\,00\nTanz Paket mit 3 Terminen: EUR 100\,00\n\nDetails zum Ekstase Tanz\n\nHaben Sie Fragen zum Workshop oder zu unserer schamanischen Ausbildung?\nBenützen Sie unser Kontaktformular.  Gerne sind wir auch für ein persönliches Gespräch für Sie da: +43 (0)699 19223634
URL:https://nagual-schamanismus.at/event/ekstase-tanz-2024/2024-03-20/
LOCATION:Studio KonTrastes\, Hanglüßgasse 3\, Wien\, 1150\, Österreich
CATEGORIES:2024,Einsteiger:innen,Ekstase Tanz
ATTACH;FMTTYPE=image/webp:https://nagual-schamanismus.at/wp-content/uploads/2022/09/Schamanische-Heilarbeit-Nagual-Niederoesterreich-wien-mobil.webp
ORGANIZER;CN="Kraftzentrum Schamanismus":MAILTO:info@nagual-schamanismus.at
END:VEVENT
BEGIN:VEVENT
DTSTART;TZID=Europe/Berlin:20240322T190000
DTEND;TZID=Europe/Berlin:20240322T220000
DTSTAMP:20260424T021253
CREATED:20240319T072433Z
LAST-MODIFIED:20251110T231320Z
UID:10000367-1711134000-1711144800@nagual-schamanismus.at
SUMMARY:Ausbildung in Essenzieller Körpertherapie nach Udo Vukovics
DESCRIPTION:Körpertherapie in unserem Sinne setzt unmittelbar im spirituellen Bereich an\, der dann direkt seinen vegetativen energetischen und emotionalen körperlichen Ausdruck findet. \nUrsprünglich auf Wilhelm Reich zurückgehend\, bieten wir eine weiterentwickelte Körperarbeit an\, die körperbezogene Interventionen auf energetischer\, körperlicher\, verbaler und spiritueller Ebene gleichermaßen beinhaltet und den essenziellen und existenziellen Kontakt mit dem Menschen in der Therapie in den Vordergrund rückt. \nSie erwerben \n\ntherapeutische Kompetenz und\n ein tiefes Verständnis der Zusammenhänge zwischen Psychodynamik und Körperstruktur.\n\nWir vermitteln Ihnen einen \n\ninnovativen Zugang zu traumatherapeutischen Themen\,\nführen Sie in die Kunst des Doppelprozessierens ein\,\nvermitteln darüber hinaus andere neuartige Verfahren zur Verarbeitung und Integration intensiv beanspruchender Lebenssituationen in Gegenwart und Vergangenheit.\n\nDie Verbindung körpertherapeutischer und ethnotherapeutischer Vorgangsweisen führt zum Kern des Potentials Ihrer Arbeit mit Menschen. \nUmfang:\n78 Stunden/13 Workshops in Essenzieller Körpertherapie nach U. V.\n66 Stunden/11 Workshops aus unserem Angebot an schamanischen Workshops zur Selbsterfahrung\nBegleitende Einzeltherapie in Essenzieller Körpertherapie nach U. V. \nAufbau und Einstieg:\nSie nehmen an den Workshops in Essentieller Körpertherapie teil\, an denen explizit körpertherapeutisches Vorgehen gelehrt\, demonstriert\, geübt und vertieft wird. \nEin Einstieg in die Ausbildung ist ganzjährig für die Dauer von 12 Monaten möglich. \nsowie individuelle Workshops zur Selbsterfahrung nach Vereinbarung. \nDie eigene Selbsterfahrung stellt eines der wesentlichsten Elemente des Arbeitens mit Menschen dar.\nAls Teil Ihrer Ausbildung und zu Ihrer Selbsterfahrung können Sie an einigen Workshops in Nagual-Schamanismus teilnehmen.  Diese wählen Sie entsprechend Ihrem Interesse und Schwerpunkt aus unserem Angebot aus.  Gerne beraten wir Sie über eine für Sie optimale Zusammenstellung. \nIm persönlichen Prozess begleiten wir Sie in körpertherapeutischen Einzelsitzungen. \nEin Einstieg in die Ausbildung in ganzjährig für die Dauer von 12 Monaten möglich. \nDetails zur Ausbildung \nIhre verbindliche Anmeldung oder Anfrage bitte über das Formular gleich unterhalb oder über unser Kontaktformular. \nHaben Sie noch Fragen? Gerne sind wir für ein Gespräch da: +43 (0)699/19223634
URL:https://nagual-schamanismus.at/event/ausbildung-in-essenzieller-koerpertherapie-nach-udo-vukovics-2024-ml/2024-03-22/
LOCATION:Kraftzentrum Schamanismus\, Haag 3\, 3232 Bischofstetten\, Niederösterreich
CATEGORIES:Körpertherapie
ATTACH;FMTTYPE=image/jpeg:https://nagual-schamanismus.at/wp-content/uploads/2023/03/Meerjungfrau-IMG_1092.jpg
ORGANIZER;CN="Kraftzentrum Schamanismus":MAILTO:info@nagual-schamanismus.at
END:VEVENT
BEGIN:VEVENT
DTSTART;TZID=Europe/Berlin:20240323T110000
DTEND;TZID=Europe/Berlin:20240323T173000
DTSTAMP:20260424T021253
CREATED:20240209T115802Z
LAST-MODIFIED:20240601T223412Z
UID:10000325-1711191600-1711215000@nagual-schamanismus.at
SUMMARY:Nagual Workshop in der Jurte
DESCRIPTION:Mitten Hinein in die Faszination schamanischer Magie. \nMagie\, Emotion und Spirit sind die drei Säulen\, die unser inneres und äußeres Lebenshaus tragen. \nUnser emotionales Sein lässt uns Verbindung und Abgrenzung zu anderen finden und eröffnet uns die Chance auf persönliches Glück. \nWir sind Wesen der Kraft und Wesen des Spirits.\nErst unsere klare Verankerung in den Bereichen von Magie und Spiritualität lässt uns zu spirituell Erwachsenen heranreifen. \nAus dem Nagual\, dem Unfassbaren\, fließt der Strom der Magie.\nWir verbinden seine Kraft mit den Anliegen\, die unserem Herzen entspringen. \nWir folgen dabei einer alten schamanischen Weisheit:  Der Weg der Schönheit ist zugleich der Weg der Selbstheilung. \nDieses Worshop in der Jurte begleitet uns ein Stück auf dem faszinierenden Weg der Erinnerung an unsere ursprüngliche magische Ganzheit. \nWEITERE INFOS \nOrt: Schamanisches Kraftzentrum Haag \nPreise: € 150\,- \nHier gehts zum Anmeldeformular \nHaben Sie noch Fragen zum Workshop oder zu unserer schamanischen Ausbildung? Benützen Sie bitte unser Kontaktformular oder melden Sie sich für ein persönliches Gespräch: +43 (0)699/19223634
URL:https://nagual-schamanismus.at/event/nagual-workshop-in-der-jurte/2024-03-23/
LOCATION:Kraftzentrum Schamanismus\, Haag 3\, 3232 Bischofstetten\, Niederösterreich
CATEGORIES:2024,Einsteiger:innen,Jurtenworkshop
ATTACH;FMTTYPE=image/jpeg:https://nagual-schamanismus.at/wp-content/uploads/2022/06/Schamanischer-Jurten-Workshop-mobil-square.jpeg
ORGANIZER;CN="Kraftzentrum Schamanismus":MAILTO:info@nagual-schamanismus.at
END:VEVENT
END:VCALENDAR