BEGIN:VCALENDAR
VERSION:2.0
PRODID:-//Kraftzentrum Schamanismus - ECPv6.15.18//NONSGML v1.0//EN
CALSCALE:GREGORIAN
METHOD:PUBLISH
X-ORIGINAL-URL:https://nagual-schamanismus.at
X-WR-CALDESC:Veranstaltungen für Kraftzentrum Schamanismus
REFRESH-INTERVAL;VALUE=DURATION:PT1H
X-Robots-Tag:noindex
X-PUBLISHED-TTL:PT1H
BEGIN:VTIMEZONE
TZID:Europe/Berlin
BEGIN:DAYLIGHT
TZOFFSETFROM:+0100
TZOFFSETTO:+0200
TZNAME:CEST
DTSTART:20230326T010000
END:DAYLIGHT
BEGIN:STANDARD
TZOFFSETFROM:+0200
TZOFFSETTO:+0100
TZNAME:CET
DTSTART:20231029T010000
END:STANDARD
BEGIN:DAYLIGHT
TZOFFSETFROM:+0100
TZOFFSETTO:+0200
TZNAME:CEST
DTSTART:20240331T010000
END:DAYLIGHT
BEGIN:STANDARD
TZOFFSETFROM:+0200
TZOFFSETTO:+0100
TZNAME:CET
DTSTART:20241027T010000
END:STANDARD
BEGIN:DAYLIGHT
TZOFFSETFROM:+0100
TZOFFSETTO:+0200
TZNAME:CEST
DTSTART:20250330T010000
END:DAYLIGHT
BEGIN:STANDARD
TZOFFSETFROM:+0200
TZOFFSETTO:+0100
TZNAME:CET
DTSTART:20251026T010000
END:STANDARD
END:VTIMEZONE
BEGIN:VEVENT
DTSTART;TZID=Europe/Berlin:20240124T183000
DTEND;TZID=Europe/Berlin:20240124T223000
DTSTAMP:20260424T052412
CREATED:20240103T203128Z
LAST-MODIFIED:20240210T090540Z
UID:10000229-1706121000-1706135400@nagual-schamanismus.at
SUMMARY:Ekstase Tanz Abend
DESCRIPTION:+++ AKTION: € 40\,– für Einsteiger* +++ \nIn diesem Workshop öffnen sich Ihnen auf tänzerische Art und Weise neue Erfahrungswelten zwischen dem Diesseits und den verborgenen geistigen Welten. Die Arbeit ist unter anderem stark geprägt von Rhythmus und Bewegung.  \nUnser Ekstase Tanz Abend ist eine Reise zu Vitalität und spiritueller Kraft\, die uns jenseits unserer Begrenzungen erwarten. \n\nLösen Sie mit ekstatischem Tanz die Panzerung Ihres Körpers und\nkommen Sie so zu Ihrem eigenen Selbst.\nGenießen Sie die lustvolle Bewegung und\ndie Freiheit des Selbstausdrucks jenseits festgelegter tänzerischer Bewegungsformen.\nEkstatischer Tanz unterstützt Sie dabei körperlich\, emotional und spirituell freier zu werden.\n\n>> Flyer downloaden << \nDetails zum Ekstase Tanz \nDauer: 18.30 – 22.00 Uhr\n\nPreise:\nErste Abend: EUR 40\,00\njede weitere Abend: EUR 60\,00\nTanz Paket mit 3 Terminen: EUR 100\,00\n\n\nHaben Sie Fragen zum Workshop oder zu unserer schamanischen Ausbildung?\nBenützen Sie unser Kontaktformular.  Gerne sind wir auch für ein persönliches Gespräch für Sie da: +43 (0)699 19223634 \n\n 
URL:https://nagual-schamanismus.at/event/ekstase-tanz-2/
LOCATION:Vitality Base\, Leberstraße 118A\, 1110 Wien\, Österreich
CATEGORIES:2024,Ekstase Tanz
ATTACH;FMTTYPE=image/webp:https://nagual-schamanismus.at/wp-content/uploads/2022/09/Schamanische-Heilarbeit-Nagual-Niederoesterreich-wien-mobil.webp
ORGANIZER;CN="Kraftzentrum Schamanismus":MAILTO:info@nagual-schamanismus.at
END:VEVENT
BEGIN:VEVENT
DTSTART;TZID=Europe/Berlin:20240127T143000
DTEND;TZID=Europe/Berlin:20240127T223000
DTSTAMP:20260424T052412
CREATED:20230319T070801Z
LAST-MODIFIED:20240912T142730Z
UID:10000279-1706365800-1706394600@nagual-schamanismus.at
SUMMARY:Ekstase Tanz Workshop
DESCRIPTION:Erleben Sie…..\n\nIntensive Selbstentfaltung mit sanftem Touch.\nEin Angebot\, das Ihre bisherigen Grenzen konstruktiv in Frage stellt und erweitert. Dabei öffnen sich für Sie neue Möglichkeiten von Leben und Erleben.\nKompetenz und Professionalität in unserer Arbeit mit Körper\, Psyche\, Essenz\, Magie und Spirit.\nSie befinden sich inmitten Ihrer ganz individuellen ….\n\n…magischen Selbsterfahrung zur Seelenstärkung und sind direkt dabei\, mit dem Spirit auf Tuchfühlung zu gehen….\nDetails zum Ekstase Tanz \nDauer: 7 Stunden. \nPreis: € 130\,- \n  \nVerbindliche Anmeldung: bis 2 Tage vor Beginn der Veranstaltung über unser Anmeldeformular oder unter +43 (0)699/19223634 \nHaben Sie noch Fragen zum Workshop oder zu unserer schamanischen Ausbildung?\nBenützen Sie unser Kontaktformular\, gerne sind wir auch für ein persönliches Gespräch für Sie da: +43 (0)699/19223634
URL:https://nagual-schamanismus.at/event/ecstatic-dance-workshop-niederoesterreich/
LOCATION:Wird bekannt gegeben.
CATEGORIES:2024,Ekstase Tanz
ATTACH;FMTTYPE=image/jpeg:https://nagual-schamanismus.at/wp-content/uploads/2020/04/IMG_6122.jpg
ORGANIZER;CN="Kraftzentrum Schamanismus":MAILTO:info@nagual-schamanismus.at
END:VEVENT
END:VCALENDAR