BEGIN:VCALENDAR
VERSION:2.0
PRODID:-//Kraftzentrum Schamanismus - ECPv6.15.18//NONSGML v1.0//EN
CALSCALE:GREGORIAN
METHOD:PUBLISH
X-WR-CALNAME:Kraftzentrum Schamanismus
X-ORIGINAL-URL:https://nagual-schamanismus.at
X-WR-CALDESC:Veranstaltungen für Kraftzentrum Schamanismus
REFRESH-INTERVAL;VALUE=DURATION:PT1H
X-Robots-Tag:noindex
X-PUBLISHED-TTL:PT1H
BEGIN:VTIMEZONE
TZID:Europe/Berlin
BEGIN:DAYLIGHT
TZOFFSETFROM:+0100
TZOFFSETTO:+0200
TZNAME:CEST
DTSTART:20220327T010000
END:DAYLIGHT
BEGIN:STANDARD
TZOFFSETFROM:+0200
TZOFFSETTO:+0100
TZNAME:CET
DTSTART:20221030T010000
END:STANDARD
BEGIN:DAYLIGHT
TZOFFSETFROM:+0100
TZOFFSETTO:+0200
TZNAME:CEST
DTSTART:20230326T010000
END:DAYLIGHT
BEGIN:STANDARD
TZOFFSETFROM:+0200
TZOFFSETTO:+0100
TZNAME:CET
DTSTART:20231029T010000
END:STANDARD
BEGIN:DAYLIGHT
TZOFFSETFROM:+0100
TZOFFSETTO:+0200
TZNAME:CEST
DTSTART:20240331T010000
END:DAYLIGHT
BEGIN:STANDARD
TZOFFSETFROM:+0200
TZOFFSETTO:+0100
TZNAME:CET
DTSTART:20241027T010000
END:STANDARD
END:VTIMEZONE
BEGIN:VEVENT
DTSTART;TZID=Europe/Berlin:20230923T110000
DTEND;TZID=Europe/Berlin:20230924T140000
DTSTAMP:20260424T115020
CREATED:20221215T082025Z
LAST-MODIFIED:20231005T112806Z
UID:10000019-1695466800-1695564000@nagual-schamanismus.at
SUMMARY:Fortbildung für Physio- und Ergotherapeutinnen
DESCRIPTION:{Paketpreis bezieht sich auf zwei Wochenenden April & Oktober 2023} \nFür Menschen in körperzentrierten Heilberufen –\nPhysiotherapeutInnen\, ErgotherapeutInnen\,\nTanztherapeutInnen\, AtemtherapeutInnen\, … \nIn unserem Kurs behandeln wir wesentliche körpereigene Vorgänge in uns und unseren KlientInnen. \nEs geht um das Verständnis einer Funktionalität im Körper die sich jenseits rein anatomischen und biomechanischen Wissens auftut. \nWir setzen uns dazu mit der eigenen Selbstregulation und mit Selbstregulation im Allgemeinen auseinander. \nDas Selbstverständnis unseres Körpers wird anhand von (Mikro-) Bewegung\,\nRaumgefühl und körpereigenen Reflexen überprüft und teilweise auf neue Grundlagen gestellt. \nDieser Vorgang führt uns zu einer Erweiterung der eigenen Raumwahrnehmung und Körperwahrnehmung. \nDies geschieht vor allem mithilfe somatischer Resonanz\, dem Mitschwingen der eigenen Körperwahrnehmung mit dem Prozess des Klienten. \nWir entwickeln dabei schrittweise ein körperorientiertes Prozessverständnis. \nWir arbeiten mit der Magie der Relevanz\, mit bestimmten Strukturen im Körper und allgemeiner mit dem Körper in struktureller Betrachtung und sehen uns die Ebenen des Energieflusses im Körper an – sowohl statisch als auch in Bewegung und im Tanz. \nWir beschäftigen uns ein wenig mit Vorgängen „unheimlichen“ und „heimlichen“ Heilens. Mit diesen\nBegriffen beziehen wir uns auf die Unvorhersehbarkeit körpereigener Prozesse.\nDas heißt: Zum einen nehmen wir den zuweilen versteckten Moment wahr\, in dem die Selbstheilung des Klienten einsetzt\, und zum anderen lernen wir mit der freien Selbstgestaltung unseres Gegenübers umzugehen. \nWir werden auch einige traumatherapeutische Elemente in unsere Arbeitsweise integrieren. \nDie Entdeckung von körperbezogenen Punkten der Einfachheit hilft uns\, die neue Körperbewusstheit in kompetente körperbezogene Ansätze und therapeutische Handlungen umzusetzen. \nDer Kurs setzt sich aus Theorie\, Demonstrationen und praktischen Übungen zusammen. \nDauer: Je 10 Stunden an zwei Wochenenden.\nTermine:  1./2.April 2023 sowie 21./22. Oktober 2023\nKosten: Je nach finanzieller Lage und Selbsteinschätzung  zwischen € 400.- und € 600.- insgesamt.\nKostenlos:  In unserem Zentrum in Haag gibt es die Möglichkeit zur Selbstversorgung in unserer Küche und Stube sowie zur Übernachtung\nTeilnehmerzahl:  Minimal vier bis maximal zwölf Personen.\nLeiter:  Udo Vukovics\, Körperpsychotherapeut (Mitglied der EABP\, European Association for Bodypsychotherapy). \nEine Fortsetzung dieses Kurses für weiter Interessierte in den nachfolgenden Jahren ist\ngeplant. \nWeitere Informationen und Anmeldung bei Ursula Merk +43 699 19 231 678 \nRechtliche Rahmenbedingungen-Aufklärung: \nEs handelt sich bei dieser Veranstaltung weder um eine offiziell anerkannte Fortbildung noch ist die Körperpsychotherapie eine derzeit in Österreich anerkannte psychotherapeutische Ausbildung \nSie ist auch keine derzeit in Österreich anerkannte psychotherapeutische Richtung. \nEs geht in diesem Kurs nicht um die psychotherapeutische Behandlung psychischer Störungen. \nDer Begriff Heilung wird im Zusammenhang dieses Textes ganzheitlich verstanden. Er bezeichnet hier also das Zurückkommen in ein allgemein körperlich-seelisches Wohlbefinden und bezieht sich explizit nicht auf medizinische Heilbehandlungen\, wie sie in Österreich ÄrztInnen vorbehalten sind. \nDer Besuch des Kurses erfolgt somit ausschließlich zur eigenen Kompetenzsteigerung und zum Erwerb eines tieferen Prozess- und Körperverständnisses. \nDie gesamte Teilnahme an diesem Kurs findet in Eigenverantwortung statt. \nInfo-PDF DOWNLOAD
URL:https://nagual-schamanismus.at/event/fortbildung-in-essenzieller-koerpertherapie-2023/
LOCATION:Kraftzentrum Schamanismus\, Haag 3\, 3232 Bischofstetten\, Niederösterreich
CATEGORIES:2023,Mehrere Tage
ATTACH;FMTTYPE=image/jpeg:https://nagual-schamanismus.at/wp-content/uploads/2020/05/Nagual-Schamanimus-Ritualgegenstand-Statue.jpg
ORGANIZER;CN="Kraftzentrum Schamanismus":MAILTO:info@nagual-schamanismus.at
END:VEVENT
BEGIN:VEVENT
DTSTART;TZID=Europe/Berlin:20230923T160000
DTEND;TZID=Europe/Berlin:20230923T220000
DTSTAMP:20260424T115020
CREATED:20230728T223941Z
LAST-MODIFIED:20240103T210102Z
UID:10000152-1695484800-1695506400@nagual-schamanismus.at
SUMMARY:Nagual Workshop in der Jurte
DESCRIPTION:Der oben angegebene Preis bezieht sich auf das ganze Workshop im Ausmaß von 12 Stunden oder 2 schamanischen Arbeitstagen.\nDer Tagespreis für dieses Workshop beträgt 110 Euro für Samstag abend\, 4 Stunden\, und 170 Euro für Sonntag\, 8 Stunden.\nMagie zum Anfassen\nSchamanische Magie in der Jurte\nLassen Sie sich auf die schamanische Magie ein\, um sich vollständig zu erleben. \nErst das Einlassen auf Magie\, Spirit und Emotion führt uns zum wahren ganzheitlichen Ausdruck unserer Persönlichkeit. \nDrei Faktoren bestimmen unser Leben. \nUnser emotionales Sein lässt uns Verbindung und Abgrenzung zu anderen finden und eröffnet unser die Chance auf persönliches Glück. \nWEITERE INFOS
URL:https://nagual-schamanismus.at/event/nagual-workshops-in-der-jurte-2023-3/2023-09-23/
LOCATION:Kraftzentrum Schamanismus\, Haag 3\, 3232 Bischofstetten\, Niederösterreich
CATEGORIES:2023,Jurtenworkshop
ATTACH;FMTTYPE=image/jpeg:https://nagual-schamanismus.at/wp-content/uploads/2022/06/Schamanischer-Jurten-Workshop-mobil-square.jpeg
ORGANIZER;CN="Kraftzentrum Schamanismus":MAILTO:info@nagual-schamanismus.at
END:VEVENT
BEGIN:VEVENT
DTSTART;TZID=Europe/Berlin:20230924T180000
DTEND;TZID=Europe/Berlin:20230924T220000
DTSTAMP:20260424T115020
CREATED:20230728T223941Z
LAST-MODIFIED:20240103T210102Z
UID:10000151-1695578400-1695592800@nagual-schamanismus.at
SUMMARY:Nagual Workshop in der Jurte
DESCRIPTION:Der oben angegebene Preis bezieht sich auf das ganze Workshop im Ausmaß von 12 Stunden oder 2 schamanischen Arbeitstagen.\nDer Tagespreis für dieses Workshop beträgt 110 Euro für Samstag abend\, 4 Stunden\, und 170 Euro für Sonntag\, 8 Stunden.\nMagie zum Anfassen\nSchamanische Magie in der Jurte\nLassen Sie sich auf die schamanische Magie ein\, um sich vollständig zu erleben. \nErst das Einlassen auf Magie\, Spirit und Emotion führt uns zum wahren ganzheitlichen Ausdruck unserer Persönlichkeit. \nDrei Faktoren bestimmen unser Leben. \nUnser emotionales Sein lässt uns Verbindung und Abgrenzung zu anderen finden und eröffnet unser die Chance auf persönliches Glück. \nWEITERE INFOS
URL:https://nagual-schamanismus.at/event/nagual-workshops-in-der-jurte-2023-3/2023-09-24/
LOCATION:Kraftzentrum Schamanismus\, Haag 3\, 3232 Bischofstetten\, Niederösterreich
CATEGORIES:2023,Jurtenworkshop
ATTACH;FMTTYPE=image/jpeg:https://nagual-schamanismus.at/wp-content/uploads/2022/06/Schamanischer-Jurten-Workshop-mobil-square.jpeg
ORGANIZER;CN="Kraftzentrum Schamanismus":MAILTO:info@nagual-schamanismus.at
END:VEVENT
END:VCALENDAR