BEGIN:VCALENDAR
VERSION:2.0
PRODID:-//Kraftzentrum Schamanismus - ECPv6.15.18//NONSGML v1.0//EN
CALSCALE:GREGORIAN
METHOD:PUBLISH
X-ORIGINAL-URL:https://nagual-schamanismus.at
X-WR-CALDESC:Veranstaltungen für Kraftzentrum Schamanismus
REFRESH-INTERVAL;VALUE=DURATION:PT1H
X-Robots-Tag:noindex
X-PUBLISHED-TTL:PT1H
BEGIN:VTIMEZONE
TZID:Europe/Berlin
BEGIN:DAYLIGHT
TZOFFSETFROM:+0100
TZOFFSETTO:+0200
TZNAME:CEST
DTSTART:20220327T010000
END:DAYLIGHT
BEGIN:STANDARD
TZOFFSETFROM:+0200
TZOFFSETTO:+0100
TZNAME:CET
DTSTART:20221030T010000
END:STANDARD
BEGIN:DAYLIGHT
TZOFFSETFROM:+0100
TZOFFSETTO:+0200
TZNAME:CEST
DTSTART:20230326T010000
END:DAYLIGHT
BEGIN:STANDARD
TZOFFSETFROM:+0200
TZOFFSETTO:+0100
TZNAME:CET
DTSTART:20231029T010000
END:STANDARD
BEGIN:DAYLIGHT
TZOFFSETFROM:+0100
TZOFFSETTO:+0200
TZNAME:CEST
DTSTART:20240331T010000
END:DAYLIGHT
BEGIN:STANDARD
TZOFFSETFROM:+0200
TZOFFSETTO:+0100
TZNAME:CET
DTSTART:20241027T010000
END:STANDARD
END:VTIMEZONE
BEGIN:VEVENT
DTSTART;TZID=Europe/Berlin:20230415T150000
DTEND;TZID=Europe/Berlin:20230415T180000
DTSTAMP:20260424T193938
CREATED:20221215T091708Z
LAST-MODIFIED:20230506T231213Z
UID:10000017-1681570800-1681581600@nagual-schamanismus.at
SUMMARY:Schamanische Magie und Ekstasetanz in Aktion\, Gratis-Workshop
DESCRIPTION:Ein Treffen von Schamanen\, schamanisch Interessierten und Freunden.\nEine Begegnung der besonderen Art inklusive schamanischem Reinigungsritual\, Kraftkreis der inneren Wahrnehmung. Eine feine Gelegenheit für Austausch\, Kennenlernen und Genießen. \nDetails zum Programm werden noch bekannt gegeben. \nFür Speis und Trank ist im Rahmen einer kleinen Jause ebenfalls gesorgt. \nDie ganze Veranstaltung ist gratis aber keinesfalls umsonst. \nIm Anschluss an unseren Magischen Workshop findet für Interessierte ab 14 Uhr ein kurzer Ekstase Tanz Workshop statt >> weitere Infos <<\n \n  \n\n		\n		\n			\n				\n			\n			\n				\n			\n			\n				\n			\n			\n				\n			\n		\n\n 
URL:https://nagual-schamanismus.at/event/magisches-workshop-mit-ekstasetanz/2023-04-15/
LOCATION:Kraftzentrum Schamanismus\, Haag 3\, 3232 Bischofstetten\, Niederösterreich
CATEGORIES:Kostenlos
ATTACH;FMTTYPE=image/jpeg:https://nagual-schamanismus.at/wp-content/uploads/2020/03/IMG_20180121_083821.jpg
ORGANIZER;CN="Kraftzentrum Schamanismus":MAILTO:info@nagual-schamanismus.at
END:VEVENT
END:VCALENDAR