BEGIN:VCALENDAR
VERSION:2.0
PRODID:-//Kraftzentrum Schamanismus - ECPv6.15.18//NONSGML v1.0//EN
CALSCALE:GREGORIAN
METHOD:PUBLISH
X-ORIGINAL-URL:https://nagual-schamanismus.at
X-WR-CALDESC:Veranstaltungen für Kraftzentrum Schamanismus
REFRESH-INTERVAL;VALUE=DURATION:PT1H
X-Robots-Tag:noindex
X-PUBLISHED-TTL:PT1H
BEGIN:VTIMEZONE
TZID:Europe/Berlin
BEGIN:DAYLIGHT
TZOFFSETFROM:+0100
TZOFFSETTO:+0200
TZNAME:CEST
DTSTART:20210328T010000
END:DAYLIGHT
BEGIN:STANDARD
TZOFFSETFROM:+0200
TZOFFSETTO:+0100
TZNAME:CET
DTSTART:20211031T010000
END:STANDARD
BEGIN:DAYLIGHT
TZOFFSETFROM:+0100
TZOFFSETTO:+0200
TZNAME:CEST
DTSTART:20220327T010000
END:DAYLIGHT
BEGIN:STANDARD
TZOFFSETFROM:+0200
TZOFFSETTO:+0100
TZNAME:CET
DTSTART:20221030T010000
END:STANDARD
BEGIN:DAYLIGHT
TZOFFSETFROM:+0100
TZOFFSETTO:+0200
TZNAME:CEST
DTSTART:20230326T010000
END:DAYLIGHT
BEGIN:STANDARD
TZOFFSETFROM:+0200
TZOFFSETTO:+0100
TZNAME:CET
DTSTART:20231029T010000
END:STANDARD
END:VTIMEZONE
BEGIN:VEVENT
DTSTART;TZID=Europe/Berlin:20220226T200000
DTEND;TZID=Europe/Berlin:20220226T230000
DTSTAMP:20260425T175047
CREATED:20220226T190000Z
LAST-MODIFIED:20231108T104834Z
UID:10000097-1645905600-1645916400@nagual-schamanismus.at
SUMMARY:Virtuelles schamanisches Workshop
DESCRIPTION:Virtuelles schamanisches Workshop auf zoom. Anmeldungen bitte an contact@nagual-schamanismus.at senden. Wir schicken Ihnen dann umgehend die Information zur Bezahlung des Beitrags von €50.- Euro zu. Nach Einzahlung dieses Beitrags wird Ihre Anmeldung von uns als verbindlich angesehen und Sie erhalten die ZugangsID und das dazugehörige Passwort\, mit dem Sie unserem virtuellen schamanischen Workshop beitreten können. \nIch freue mich schon auf die Begegnung mit Ihnen! \nAusführliche Informationen und Hintergründe zu diesem Workshop finden Sie im Blog-Beitrag zu unserem 1. virtuellen Workshop
URL:https://nagual-schamanismus.at/event/virtuelles-schamanisches-workshop/2022-02-26/
LOCATION:online\, online Workshop
CATEGORIES:2023,online Workshop
ATTACH;FMTTYPE=image/jpeg:https://nagual-schamanismus.at/wp-content/uploads/2020/05/IMG_6842.jpg
ORGANIZER;CN="Kraftzentrum Schamanismus":MAILTO:info@nagual-schamanismus.at
END:VEVENT
END:VCALENDAR