BEGIN:VCALENDAR
VERSION:2.0
PRODID:-//Kraftzentrum Schamanismus - ECPv6.15.18//NONSGML v1.0//EN
CALSCALE:GREGORIAN
METHOD:PUBLISH
X-ORIGINAL-URL:https://nagual-schamanismus.at
X-WR-CALDESC:Veranstaltungen für Kraftzentrum Schamanismus
REFRESH-INTERVAL;VALUE=DURATION:PT1H
X-Robots-Tag:noindex
X-PUBLISHED-TTL:PT1H
BEGIN:VTIMEZONE
TZID:Europe/Berlin
BEGIN:DAYLIGHT
TZOFFSETFROM:+0100
TZOFFSETTO:+0200
TZNAME:CEST
DTSTART:20200329T010000
END:DAYLIGHT
BEGIN:STANDARD
TZOFFSETFROM:+0200
TZOFFSETTO:+0100
TZNAME:CET
DTSTART:20201025T010000
END:STANDARD
BEGIN:DAYLIGHT
TZOFFSETFROM:+0100
TZOFFSETTO:+0200
TZNAME:CEST
DTSTART:20210328T010000
END:DAYLIGHT
BEGIN:STANDARD
TZOFFSETFROM:+0200
TZOFFSETTO:+0100
TZNAME:CET
DTSTART:20211031T010000
END:STANDARD
BEGIN:DAYLIGHT
TZOFFSETFROM:+0100
TZOFFSETTO:+0200
TZNAME:CEST
DTSTART:20220327T010000
END:DAYLIGHT
BEGIN:STANDARD
TZOFFSETFROM:+0200
TZOFFSETTO:+0100
TZNAME:CET
DTSTART:20221030T010000
END:STANDARD
END:VTIMEZONE
BEGIN:VEVENT
DTSTART;TZID=Europe/Berlin:20210729T080000
DTEND;TZID=Europe/Berlin:20210801T170000
DTSTAMP:20260426T033727
CREATED:20201106T200344Z
LAST-MODIFIED:20201106T200344Z
UID:10000083-1627545600-1627837200@nagual-schamanismus.at
SUMMARY:Schamanische Bergwanderung - Den Feenlinien folgen
DESCRIPTION:Hochgebirgswandern auf Feenwegen – Entdecken Sie die heiligen Wege der Alpen\nIn der Wildnis des Hochgebirges\, mitten durch die Alpen\, folgen wir dem Sog der Feenkraftlinien. Es sind Schritte der Kraft\, die uns zu einer ganz neuen Naturerfahrung führen. Wandern Sie mit Schamanen dort\, wo sich die Natur bereitwillig mit ihren magischen Geheimnissen öffnet. Leiten wird uns der schamanische Lehrer Udo Vukovics. \nWeitere Informationen \nWo und wann findet die schamanische Bergwanderung statt\nOrt: Alpen – Weitere Informationen erhalten Sie auf Anfrage. \nTermine:  Anfahrt 28. Juli 2021.  Die Wanderung startet am 29. Juli und endet am 1. August nach Abstieg ins Tal. \nZeit: 4-tägig \n  \nKosten für den Workshop und Voraussetzungen\nPreis: € 500\,- für die Teilnahme an der schamanisch begleiteten Wanderung und Workshop.\nKosten für An- und Abreise\, Nächtigung und Verpflegung sind nicht im Preis enthalten. \nVoraussetzungen: Guter gesundheitlicher Zustand der TeilnehmerIn\, adäquate Bergausrüstung sowie Trittsicherheit und Schwindelfreiheit sind notwendig. Gerne übermitteln wir Ihnen anlässlich Ihrer Anmeldung eine Ausrüstungsliste. \nOrganisatorisches: Ihre Übernachtungen auf den Berghütten werden von uns organisiert. Gerne unterstützen wir Sie bei der Buchung der ersten Übernachtung im Tal bei Anreise. Anfahrt und Rückreise erfolgen individuell\, können bei Bedarf gerne von uns organisiert werden. \n  \nAnmeldung zur schamanischen Bergwanderung\nAnmeldefrist ist der 30. Juni 2021 \nVerbindliche Anmeldung: bis 30. Juni über unser Anmeldeformular oder unter +43 (0)699/19223634 \nHaben Sie noch Fragen zum Workshop? Gerne sind wir für ein Gespräch da: +43 (0)699/19223634
URL:https://nagual-schamanismus.at/event/schamanische-bergwanderung-den-feenlinien-folgen-juli/
LOCATION:Kraftzentrum Schamanismus\, Haag 3\, 3232 Bischofstetten\, Niederösterreich
CATEGORIES:Bergwandern,Mehrere Tage
ATTACH;FMTTYPE=image/jpeg:https://nagual-schamanismus.at/wp-content/uploads/2019/09/20180813_112903_quad.jpg
ORGANIZER;CN="Kraftzentrum Schamanismus":MAILTO:info@nagual-schamanismus.at
END:VEVENT
END:VCALENDAR